BEGIN:VCALENDAR
VERSION:2.0
PRODID:-//Squarespace Inc/Squarespace 6//v6//EN
BEGIN:VEVENT
UID:5d997d36fc48d130912b3959@squarespace.com
DTSTAMP:20191006T054254Z
DTSTART:20191021T223000Z
DTEND:20191022T020000Z
SUMMARY:Halloween Special Adventures Evening
GEO:-41.279484;174.78009
LOCATION:Yoobee Wellington Campus\, Level 2\, West Wing\, Wellington Railwa
 y Station 2 Bunny Street\, Pipitea\, Wellington
END:VEVENT
END:VCALENDAR
