BEGIN:VCALENDAR
VERSION:2.0
PRODID:-//Squarespace Inc/Squarespace 6//v6//EN
BEGIN:VEVENT
UID:5dca24706132332d58c14596@squarespace.com
DTSTAMP:20191112T033614Z
DTSTART:20191125T233000Z
DTEND:20191126T030000Z
SUMMARY:Adventurers Evening WLG
GEO:-41.279484;174.78009
LOCATION:Yoobee Wellington Campus\, Level 2\, West Wing\, Wellington Railwa
 y Station 2 Bunny Street\, Pipitea\, Wellington
END:VEVENT
END:VCALENDAR
