BEGIN:VCALENDAR
VERSION:2.0
PRODID:-//Squarespace Inc/Squarespace 6//v6//EN
BEGIN:VEVENT
UID:5cde320caaf03700011b129a@squarespace.com
DTSTAMP:20190919T134719Z
DTSTART:20190205T233000Z
DTEND:20190206T030000Z
SUMMARY:Adventurers Evening AKL
GEO:-36.862208;174.751325
LOCATION:The Auckland Space Station\, 26 Monmouth Street\, Grey Lynn\, Auck
 land
END:VEVENT
END:VCALENDAR
