BEGIN:VCALENDAR
VERSION:2.0
PRODID:-//Squarespace Inc/Squarespace 6//v6//EN
BEGIN:VEVENT
UID:5cde33006feef300013a036a@squarespace.com
DTSTAMP:20190919T134725Z
DTSTART:20181204T233000Z
DTEND:20181205T030000Z
SUMMARY:Adventurers Evening AKL
GEO:-36.862208;174.751325
LOCATION:The Auckland Space Station\, 26 Monmouth Street\, Grey Lynn\, Auck
 land
END:VEVENT
END:VCALENDAR
